Package: bugsigdbr Version: 1.17.0 Maintainer: Ludwig Geistlinger MaintainerEmail: ludwig.geistlinger at gmail.com git_url: https://git.bioconductor.org/packages/bugsigdbr git_branch: devel git_last_commit: 5a6fb55 git_last_commit_date: 2025-10-29 11:11:42 -0500 (Wed, 29 Oct 2025)