Package: bsseq Version: 1.47.1 Command: /home/biocbuild/bbs-3.23-bioc/R/bin/R CMD INSTALL bsseq StartedAt: 2025-11-14 15:36:07 -0500 (Fri, 14 Nov 2025) EndedAt: 2025-11-14 15:37:13 -0500 (Fri, 14 Nov 2025) EllapsedTime: 65.4 seconds RetCode: 0 Status: OK