Package: bsseq Version: 1.47.1 Command: /Library/Frameworks/R.framework/Resources/bin/R CMD INSTALL bsseq StartedAt: 2025-11-14 15:17:19 -0500 (Fri, 14 Nov 2025) EndedAt: 2025-11-14 15:17:45 -0500 (Fri, 14 Nov 2025) EllapsedTime: 25.6 seconds RetCode: 0 Status: OK