Package: bsseq Version: 1.47.1 Command: rm -rf bsseq.buildbin-libdir && mkdir bsseq.buildbin-libdir && /Users/biocbuild/BBS/utils/build-universal.sh bsseq_1.47.1.tar.gz /Library/Frameworks/R.framework/Resources/bin/R bsseq.buildbin-libdir StartedAt: 2025-11-14 23:25:03 -0500 (Fri, 14 Nov 2025) EndedAt: 2025-11-14 23:25:29 -0500 (Fri, 14 Nov 2025) EllapsedTime: 25.5 seconds RetCode: 0 Status: OK PackageFile: bsseq_1.47.1.tgz PackageFileSize: 3.772 MiB