Package: bsseq Version: 1.47.1 Maintainer: Kasper Daniel Hansen MaintainerEmail: kasperdanielhansen at gmail.com git_url: https://git.bioconductor.org/packages/bsseq git_branch: devel git_last_commit: 46b4295 git_last_commit_date: 2025-10-31 11:03:21 -0500 (Fri, 31 Oct 2025)