Package: broadSeq Version: 1.5.0 Command: /home/biocbuild/bbs-3.23-bioc/R/bin/R CMD INSTALL broadSeq StartedAt: 2025-11-13 15:48:31 -0500 (Thu, 13 Nov 2025) EndedAt: 2025-11-13 15:49:10 -0500 (Thu, 13 Nov 2025) EllapsedTime: 38.5 seconds RetCode: 0 Status: OK