Package: broadSeq Version: 1.5.0 Maintainer: Rishi Das Roy MaintainerEmail: rishi.dasroy at gmail.com git_url: https://git.bioconductor.org/packages/broadSeq git_branch: devel git_last_commit: f8280c0 git_last_commit_date: 2025-10-29 11:30:34 -0500 (Wed, 29 Oct 2025)