Package: breakpointR Version: 1.29.0 Command: /home/biocbuild/bbs-3.23-bioc/R/bin/R CMD INSTALL breakpointR StartedAt: 2025-11-13 15:25:26 -0500 (Thu, 13 Nov 2025) EndedAt: 2025-11-13 15:25:54 -0500 (Thu, 13 Nov 2025) EllapsedTime: 28.8 seconds RetCode: 0 Status: OK