Package: breakpointR Version: 1.29.0 Command: /home/biocbuild/bbs-3.23-bioc/R/bin/R CMD build --keep-empty-dirs --no-resave-data breakpointR StartedAt: 2025-11-13 16:33:19 -0500 (Thu, 13 Nov 2025) EndedAt: 2025-11-13 16:34:28 -0500 (Thu, 13 Nov 2025) EllapsedTime: 69.1 seconds RetCode: 0 Status: OK PackageFile: breakpointR_1.29.0.tar.gz PackageFileSize: 820.1 KiB