Package: breakpointR Version: 1.29.0 Maintainer: David Porubsky MaintainerEmail: david.porubsky at gmail.com git_url: https://git.bioconductor.org/packages/breakpointR git_branch: devel git_last_commit: 5469268 git_last_commit_date: 2025-10-29 10:47:40 -0500 (Wed, 29 Oct 2025)