Package: branchpointer Version: 1.37.0 Command: /home/biocbuild/bbs-3.23-bioc/R/bin/R CMD INSTALL branchpointer StartedAt: 2025-11-11 15:38:57 -0500 (Tue, 11 Nov 2025) EndedAt: 2025-11-11 15:39:49 -0500 (Tue, 11 Nov 2025) EllapsedTime: 52.3 seconds RetCode: 0 Status: OK