Package: branchpointer Version: 1.37.0 Command: /home/biocbuild/bbs-3.23-bioc/R/bin/R CMD build --keep-empty-dirs --no-resave-data branchpointer StartedAt: 2025-11-11 16:37:15 -0500 (Tue, 11 Nov 2025) EndedAt: 2025-11-11 16:38:26 -0500 (Tue, 11 Nov 2025) EllapsedTime: 71.1 seconds RetCode: 1 Status: ERROR PackageFile: None PackageFileSize: NA