Package: branchpointer Version: 1.37.0 Command: /Library/Frameworks/R.framework/Resources/bin/R CMD build --keep-empty-dirs --no-resave-data branchpointer StartedAt: 2025-11-13 15:50:35 -0500 (Thu, 13 Nov 2025) EndedAt: 2025-11-13 15:51:05 -0500 (Thu, 13 Nov 2025) EllapsedTime: 30.4 seconds RetCode: 1 Status: ERROR PackageFile: None PackageFileSize: NA