Package: bluster Version: 1.21.0 Command: /home/biocbuild/bbs-3.23-bioc/R/bin/R CMD INSTALL bluster StartedAt: 2025-11-26 15:14:38 -0500 (Wed, 26 Nov 2025) EndedAt: 2025-11-26 15:14:59 -0500 (Wed, 26 Nov 2025) EllapsedTime: 21.1 seconds RetCode: 0 Status: OK