Package: bluster Version: 1.21.0 Command: /home/biocbuild/bbs-3.23-bioc/R/bin/R CMD build --keep-empty-dirs --no-resave-data bluster StartedAt: 2025-11-26 16:32:00 -0500 (Wed, 26 Nov 2025) EndedAt: 2025-11-26 16:33:46 -0500 (Wed, 26 Nov 2025) EllapsedTime: 106.1 seconds RetCode: 0 Status: OK PackageFile: bluster_1.21.0.tar.gz PackageFileSize: 3.059 MiB