Package: bluster Version: 1.21.0 Command: /Library/Frameworks/R.framework/Resources/bin/R CMD INSTALL bluster StartedAt: 2025-11-16 15:10:43 -0500 (Sun, 16 Nov 2025) EndedAt: 2025-11-16 15:10:51 -0500 (Sun, 16 Nov 2025) EllapsedTime: 8.1 seconds RetCode: 0 Status: OK