Package: blima Version: 1.45.0 Command: /home/biocbuild/bbs-3.23-bioc/R/bin/R CMD INSTALL blima StartedAt: 2025-11-14 15:39:16 -0500 (Fri, 14 Nov 2025) EndedAt: 2025-11-14 15:39:40 -0500 (Fri, 14 Nov 2025) EllapsedTime: 23.6 seconds RetCode: 0 Status: OK