Package: blima Version: 1.45.0 Command: /home/biocbuild/bbs-3.23-bioc/R/bin/R CMD build --keep-empty-dirs --no-resave-data blima StartedAt: 2025-11-13 16:31:47 -0500 (Thu, 13 Nov 2025) EndedAt: 2025-11-13 16:36:28 -0500 (Thu, 13 Nov 2025) EllapsedTime: 280.3 seconds RetCode: 0 Status: OK PackageFile: blima_1.45.0.tar.gz PackageFileSize: 264.8 KiB