Package: blima Version: 1.45.0 Command: /Library/Frameworks/R.framework/Resources/bin/R CMD INSTALL blima StartedAt: 2025-11-14 15:20:14 -0500 (Fri, 14 Nov 2025) EndedAt: 2025-11-14 15:20:23 -0500 (Fri, 14 Nov 2025) EllapsedTime: 8.7 seconds RetCode: 0 Status: OK