Package: blase Version: 1.1.0 Command: /home/biocbuild/bbs-3.23-bioc/R/bin/R CMD INSTALL blase StartedAt: 2025-11-13 15:54:33 -0500 (Thu, 13 Nov 2025) EndedAt: 2025-11-13 15:55:16 -0500 (Thu, 13 Nov 2025) EllapsedTime: 43.1 seconds RetCode: 0 Status: OK