Package: blase Version: 1.1.0 Command: /home/biocbuild/bbs-3.23-bioc/R/bin/R CMD build --keep-empty-dirs --no-resave-data blase StartedAt: 2025-11-11 16:35:18 -0500 (Tue, 11 Nov 2025) EndedAt: 2025-11-11 16:50:21 -0500 (Tue, 11 Nov 2025) EllapsedTime: 902.8 seconds RetCode: 0 Status: OK PackageFile: blase_1.1.0.tar.gz PackageFileSize: 8.616 MiB