Package: blase Version: 1.1.0 Command: /Library/Frameworks/R.framework/Resources/bin/R CMD INSTALL blase StartedAt: 2025-11-12 15:44:17 -0500 (Wed, 12 Nov 2025) EndedAt: 2025-11-12 15:44:33 -0500 (Wed, 12 Nov 2025) EllapsedTime: 16.6 seconds RetCode: 0 Status: OK