Package: blase Version: 1.1.0 Command: /Library/Frameworks/R.framework/Resources/bin/R CMD build --keep-empty-dirs --no-resave-data blase StartedAt: 2025-11-12 15:53:50 -0500 (Wed, 12 Nov 2025) EndedAt: 2025-11-12 15:54:30 -0500 (Wed, 12 Nov 2025) EllapsedTime: 39.5 seconds RetCode: 1 Status: ERROR PackageFile: None PackageFileSize: NA