Package: blacksheepr Version: 1.25.0 Command: /home/biocbuild/bbs-3.23-bioc/R/bin/R CMD INSTALL blacksheepr StartedAt: 2025-11-11 15:36:01 -0500 (Tue, 11 Nov 2025) EndedAt: 2025-11-11 15:36:27 -0500 (Tue, 11 Nov 2025) EllapsedTime: 26.7 seconds RetCode: 0 Status: OK