Package: blacksheepr Version: 1.25.0 Command: /home/biocbuild/bbs-3.23-bioc/R/bin/R CMD build --keep-empty-dirs --no-resave-data blacksheepr StartedAt: 2025-11-11 16:34:54 -0500 (Tue, 11 Nov 2025) EndedAt: 2025-11-11 16:37:14 -0500 (Tue, 11 Nov 2025) EllapsedTime: 140.1 seconds RetCode: 0 Status: OK PackageFile: blacksheepr_1.25.0.tar.gz PackageFileSize: 4.225 MiB