Package: blacksheepr Version: 1.25.0 Command: /Library/Frameworks/R.framework/Resources/bin/R CMD check --install=check:blacksheepr.install-out.txt --library=/Library/Frameworks/R.framework/Resources/library --no-vignettes --timings blacksheepr_1.25.0.tar.gz StartedAt: 2025-11-14 18:45:10 -0500 (Fri, 14 Nov 2025) EndedAt: 2025-11-14 18:46:54 -0500 (Fri, 14 Nov 2025) EllapsedTime: 104.2 seconds RetCode: 0 Status: OK CheckDir: blacksheepr.Rcheck Warnings: 0