Package: blacksheepr Version: 1.25.0 Command: /Library/Frameworks/R.framework/Resources/bin/R CMD build --keep-empty-dirs --no-resave-data blacksheepr StartedAt: 2025-11-12 15:53:44 -0500 (Wed, 12 Nov 2025) EndedAt: 2025-11-12 15:54:34 -0500 (Wed, 12 Nov 2025) EllapsedTime: 49.6 seconds RetCode: 0 Status: OK PackageFile: blacksheepr_1.25.0.tar.gz PackageFileSize: 4.227 MiB