Package: blacksheepr Version: 1.25.0 Command: rm -rf blacksheepr.buildbin-libdir && mkdir blacksheepr.buildbin-libdir && /Users/biocbuild/BBS/utils/build-universal.sh blacksheepr_1.25.0.tar.gz /Library/Frameworks/R.framework/Resources/bin/R blacksheepr.buildbin-libdir StartedAt: 2025-11-12 20:52:18 -0500 (Wed, 12 Nov 2025) EndedAt: 2025-11-12 20:52:32 -0500 (Wed, 12 Nov 2025) EllapsedTime: 13.5 seconds RetCode: 0 Status: OK PackageFile: blacksheepr_1.25.0.tgz PackageFileSize: 4.286 MiB