Package: biscuiteer Version: 1.25.0 Command: /home/biocbuild/bbs-3.23-bioc/R/bin/R CMD INSTALL biscuiteer StartedAt: 2025-11-11 16:03:24 -0500 (Tue, 11 Nov 2025) EndedAt: 2025-11-11 16:04:34 -0500 (Tue, 11 Nov 2025) EllapsedTime: 70.3 seconds RetCode: 0 Status: OK