Package: biscuiteer Version: 1.25.0 Command: /home/biocbuild/bbs-3.23-bioc/R/bin/R CMD build --keep-empty-dirs --no-resave-data biscuiteer StartedAt: 2025-11-11 16:34:43 -0500 (Tue, 11 Nov 2025) EndedAt: 2025-11-11 16:36:28 -0500 (Tue, 11 Nov 2025) EllapsedTime: 105.1 seconds RetCode: 0 Status: OK PackageFile: biscuiteer_1.25.0.tar.gz PackageFileSize: 4.762 MiB