############################################################################## ############################################################################## ### ### Running command: ### ### /Library/Frameworks/R.framework/Resources/bin/R CMD INSTALL biscuiteer ### ############################################################################## ############################################################################## * installing to library ‘/Library/Frameworks/R.framework/Versions/4.6-arm64/Resources/library’ ERROR: dependencies ‘bsseq’, ‘HDF5Array’, ‘dmrseq’ are not available for package ‘biscuiteer’ Perhaps try a variation of: install.packages(c('bsseq', 'HDF5Array', 'dmrseq')) * removing ‘/Library/Frameworks/R.framework/Versions/4.6-arm64/Resources/library/biscuiteer’