Package: biscuiteer Version: 1.25.0 Command: /Library/Frameworks/R.framework/Resources/bin/R CMD build --keep-empty-dirs --no-resave-data biscuiteer StartedAt: 2025-11-13 15:49:40 -0500 (Thu, 13 Nov 2025) EndedAt: 2025-11-13 15:50:25 -0500 (Thu, 13 Nov 2025) EllapsedTime: 44.5 seconds RetCode: 0 Status: OK PackageFile: biscuiteer_1.25.0.tar.gz PackageFileSize: 4.761 MiB