Package: biscuiteer Version: 1.25.0 Maintainer: Jacob Morrison MaintainerEmail: jacob.morrison at vai.org git_url: https://git.bioconductor.org/packages/biscuiteer git_branch: devel git_last_commit: c74f865 git_last_commit_date: 2025-10-29 10:55:16 -0500 (Wed, 29 Oct 2025)