Package: biovizBase Version: 1.59.0 Command: /home/biocbuild/bbs-3.23-bioc/R/bin/R CMD INSTALL biovizBase StartedAt: 2025-11-14 15:43:20 -0500 (Fri, 14 Nov 2025) EndedAt: 2025-11-14 15:44:07 -0500 (Fri, 14 Nov 2025) EllapsedTime: 46.8 seconds RetCode: 0 Status: OK