Package: biovizBase Version: 1.59.0 Command: /home/biocbuild/bbs-3.23-bioc/R/bin/R CMD build --keep-empty-dirs --no-resave-data biovizBase StartedAt: 2025-11-14 16:31:11 -0500 (Fri, 14 Nov 2025) EndedAt: 2025-11-14 16:32:15 -0500 (Fri, 14 Nov 2025) EllapsedTime: 64.0 seconds RetCode: 0 Status: OK PackageFile: biovizBase_1.59.0.tar.gz PackageFileSize: 2.397 MiB