Package: biovizBase Version: 1.59.0 Command: /Library/Frameworks/R.framework/Resources/bin/R CMD INSTALL biovizBase StartedAt: 2025-11-13 15:22:51 -0500 (Thu, 13 Nov 2025) EndedAt: 2025-11-13 15:23:09 -0500 (Thu, 13 Nov 2025) EllapsedTime: 18.9 seconds RetCode: 0 Status: OK