Package: biovizBase Version: 1.59.0 Command: /Library/Frameworks/R.framework/Resources/bin/R CMD build --keep-empty-dirs --no-resave-data biovizBase StartedAt: 2025-11-13 15:49:31 -0500 (Thu, 13 Nov 2025) EndedAt: 2025-11-13 15:49:59 -0500 (Thu, 13 Nov 2025) EllapsedTime: 28.3 seconds RetCode: 0 Status: OK PackageFile: biovizBase_1.59.0.tar.gz PackageFileSize: 2.397 MiB