Package: biovizBase Version: 1.59.0 Command: rm -rf biovizBase.buildbin-libdir && mkdir biovizBase.buildbin-libdir && /Users/biocbuild/BBS/utils/build-universal.sh biovizBase_1.59.0.tar.gz /Library/Frameworks/R.framework/Resources/bin/R biovizBase.buildbin-libdir StartedAt: 2025-11-13 23:29:36 -0500 (Thu, 13 Nov 2025) EndedAt: 2025-11-13 23:30:00 -0500 (Thu, 13 Nov 2025) EllapsedTime: 24.6 seconds RetCode: 0 Status: OK PackageFile: biovizBase_1.59.0.tgz PackageFileSize: 2.742 MiB