Package: biotmle Version: 1.35.0 Command: /Library/Frameworks/R.framework/Resources/bin/R CMD INSTALL biotmle StartedAt: 2025-11-14 15:20:05 -0500 (Fri, 14 Nov 2025) EndedAt: 2025-11-14 15:20:15 -0500 (Fri, 14 Nov 2025) EllapsedTime: 10.5 seconds RetCode: 0 Status: OK