Package: biotmle Version: 1.35.0 Command: /Library/Frameworks/R.framework/Resources/bin/R CMD build --keep-empty-dirs --no-resave-data biotmle StartedAt: 2025-11-16 15:46:01 -0500 (Sun, 16 Nov 2025) EndedAt: 2025-11-16 15:46:29 -0500 (Sun, 16 Nov 2025) EllapsedTime: 27.3 seconds RetCode: 0 Status: OK PackageFile: biotmle_1.35.0.tar.gz PackageFileSize: 317 KiB