Package: biosigner Version: 1.39.0 Command: /home/biocbuild/bbs-3.23-bioc/R/bin/R CMD INSTALL biosigner StartedAt: 2025-11-14 15:39:08 -0500 (Fri, 14 Nov 2025) EndedAt: 2025-11-14 15:39:34 -0500 (Fri, 14 Nov 2025) EllapsedTime: 26.1 seconds RetCode: 0 Status: OK