Package: biosigner Version: 1.39.0 Command: /Library/Frameworks/R.framework/Resources/bin/R CMD INSTALL biosigner StartedAt: 2025-11-13 15:21:05 -0500 (Thu, 13 Nov 2025) EndedAt: 2025-11-13 15:21:17 -0500 (Thu, 13 Nov 2025) EllapsedTime: 11.6 seconds RetCode: 0 Status: OK