Package: biosigner Version: 1.39.0 Maintainer: Etienne A. Thevenot MaintainerEmail: etienne.thevenot at cea.fr git_url: https://git.bioconductor.org/packages/biosigner git_branch: devel git_last_commit: 65312f0 git_last_commit_date: 2025-10-29 10:30:29 -0500 (Wed, 29 Oct 2025)