Package: biomaRt Version: 2.67.0 Command: /home/biocbuild/bbs-3.23-bioc/R/bin/R CMD INSTALL biomaRt StartedAt: 2025-11-14 15:26:43 -0500 (Fri, 14 Nov 2025) EndedAt: 2025-11-14 15:26:59 -0500 (Fri, 14 Nov 2025) EllapsedTime: 15.4 seconds RetCode: 0 Status: OK