Package: biomaRt Version: 2.67.0 Command: /Library/Frameworks/R.framework/Resources/bin/R CMD build --keep-empty-dirs --no-resave-data biomaRt StartedAt: 2025-11-12 15:53:10 -0500 (Wed, 12 Nov 2025) EndedAt: 2025-11-12 15:53:52 -0500 (Wed, 12 Nov 2025) EllapsedTime: 42.5 seconds RetCode: 0 Status: OK PackageFile: biomaRt_2.67.0.tar.gz PackageFileSize: 885.2 KiB