Package: biomaRt Version: 2.67.0 Command: rm -rf biomaRt.buildbin-libdir && mkdir biomaRt.buildbin-libdir && /Users/biocbuild/BBS/utils/build-universal.sh biomaRt_2.67.0.tar.gz /Library/Frameworks/R.framework/Resources/bin/R biomaRt.buildbin-libdir StartedAt: 2025-11-12 20:52:13 -0500 (Wed, 12 Nov 2025) EndedAt: 2025-11-12 20:52:21 -0500 (Wed, 12 Nov 2025) EllapsedTime: 8.2 seconds RetCode: 0 Status: OK PackageFile: biomaRt_2.67.0.tgz PackageFileSize: 965.9 KiB