Package: biodbChebi Version: 1.17.0 Command: /home/biocbuild/bbs-3.23-bioc/R/bin/R CMD INSTALL biodbChebi StartedAt: 2025-11-14 15:12:00 -0500 (Fri, 14 Nov 2025) EndedAt: 2025-11-14 15:12:08 -0500 (Fri, 14 Nov 2025) EllapsedTime: 7.9 seconds RetCode: 0 Status: OK