Package: biodbChebi Version: 1.17.0 Command: /home/biocbuild/bbs-3.23-bioc/R/bin/R CMD build --keep-empty-dirs --no-resave-data biodbChebi StartedAt: 2025-11-13 16:29:24 -0500 (Thu, 13 Nov 2025) EndedAt: 2025-11-13 16:30:02 -0500 (Thu, 13 Nov 2025) EllapsedTime: 38.0 seconds RetCode: 1 Status: ERROR PackageFile: None PackageFileSize: NA