Package: biodbChebi Version: 1.17.0 Command: /Library/Frameworks/R.framework/Resources/bin/R CMD INSTALL biodbChebi StartedAt: 2025-11-14 15:06:38 -0500 (Fri, 14 Nov 2025) EndedAt: 2025-11-14 15:06:46 -0500 (Fri, 14 Nov 2025) EllapsedTime: 7.9 seconds RetCode: 0 Status: OK