Package: biodbChebi Version: 1.17.0 Command: /Library/Frameworks/R.framework/Resources/bin/R CMD build --keep-empty-dirs --no-resave-data biodbChebi StartedAt: 2025-11-13 15:48:54 -0500 (Thu, 13 Nov 2025) EndedAt: 2025-11-13 15:49:01 -0500 (Thu, 13 Nov 2025) EllapsedTime: 7.1 seconds RetCode: 0 Status: OK PackageFile: biodbChebi_1.17.0.tar.gz PackageFileSize: 312.5 KiB